BEGIN:VCALENDAR
VERSION:2.0
PRODID:-//Free Mumia - ECPv6.15.17//NONSGML v1.0//EN
CALSCALE:GREGORIAN
METHOD:PUBLISH
X-WR-CALNAME:Free Mumia
X-ORIGINAL-URL:https://freemumia.com
X-WR-CALDESC:Events for Free Mumia
REFRESH-INTERVAL;VALUE=DURATION:PT1H
X-Robots-Tag:noindex
X-PUBLISHED-TTL:PT1H
BEGIN:VTIMEZONE
TZID:America/New_York
BEGIN:DAYLIGHT
TZOFFSETFROM:-0500
TZOFFSETTO:-0400
TZNAME:EDT
DTSTART:20200308T070000
END:DAYLIGHT
BEGIN:STANDARD
TZOFFSETFROM:-0400
TZOFFSETTO:-0500
TZNAME:EST
DTSTART:20201101T060000
END:STANDARD
BEGIN:DAYLIGHT
TZOFFSETFROM:-0500
TZOFFSETTO:-0400
TZNAME:EDT
DTSTART:20210314T070000
END:DAYLIGHT
BEGIN:STANDARD
TZOFFSETFROM:-0400
TZOFFSETTO:-0500
TZNAME:EST
DTSTART:20211107T060000
END:STANDARD
BEGIN:DAYLIGHT
TZOFFSETFROM:-0500
TZOFFSETTO:-0400
TZNAME:EDT
DTSTART:20220313T070000
END:DAYLIGHT
BEGIN:STANDARD
TZOFFSETFROM:-0400
TZOFFSETTO:-0500
TZNAME:EST
DTSTART:20221106T060000
END:STANDARD
BEGIN:DAYLIGHT
TZOFFSETFROM:-0500
TZOFFSETTO:-0400
TZNAME:EDT
DTSTART:20230312T070000
END:DAYLIGHT
BEGIN:STANDARD
TZOFFSETFROM:-0400
TZOFFSETTO:-0500
TZNAME:EST
DTSTART:20231105T060000
END:STANDARD
END:VTIMEZONE
BEGIN:VTIMEZONE
TZID:Europe/London
BEGIN:DAYLIGHT
TZOFFSETFROM:+0000
TZOFFSETTO:+0100
TZNAME:BST
DTSTART:20200329T010000
END:DAYLIGHT
BEGIN:STANDARD
TZOFFSETFROM:+0100
TZOFFSETTO:+0000
TZNAME:GMT
DTSTART:20201025T010000
END:STANDARD
BEGIN:DAYLIGHT
TZOFFSETFROM:+0000
TZOFFSETTO:+0100
TZNAME:BST
DTSTART:20210328T010000
END:DAYLIGHT
BEGIN:STANDARD
TZOFFSETFROM:+0100
TZOFFSETTO:+0000
TZNAME:GMT
DTSTART:20211031T010000
END:STANDARD
BEGIN:DAYLIGHT
TZOFFSETFROM:+0000
TZOFFSETTO:+0100
TZNAME:BST
DTSTART:20220327T010000
END:DAYLIGHT
BEGIN:STANDARD
TZOFFSETFROM:+0100
TZOFFSETTO:+0000
TZNAME:GMT
DTSTART:20221030T010000
END:STANDARD
END:VTIMEZONE
BEGIN:VTIMEZONE
TZID:America/Los_Angeles
BEGIN:DAYLIGHT
TZOFFSETFROM:-0800
TZOFFSETTO:-0700
TZNAME:PDT
DTSTART:20200308T100000
END:DAYLIGHT
BEGIN:STANDARD
TZOFFSETFROM:-0700
TZOFFSETTO:-0800
TZNAME:PST
DTSTART:20201101T090000
END:STANDARD
BEGIN:DAYLIGHT
TZOFFSETFROM:-0800
TZOFFSETTO:-0700
TZNAME:PDT
DTSTART:20210314T100000
END:DAYLIGHT
BEGIN:STANDARD
TZOFFSETFROM:-0700
TZOFFSETTO:-0800
TZNAME:PST
DTSTART:20211107T090000
END:STANDARD
BEGIN:DAYLIGHT
TZOFFSETFROM:-0800
TZOFFSETTO:-0700
TZNAME:PDT
DTSTART:20220313T100000
END:DAYLIGHT
BEGIN:STANDARD
TZOFFSETFROM:-0700
TZOFFSETTO:-0800
TZNAME:PST
DTSTART:20221106T090000
END:STANDARD
END:VTIMEZONE
BEGIN:VTIMEZONE
TZID:Europe/Amsterdam
BEGIN:DAYLIGHT
TZOFFSETFROM:+0100
TZOFFSETTO:+0200
TZNAME:CEST
DTSTART:20200329T010000
END:DAYLIGHT
BEGIN:STANDARD
TZOFFSETFROM:+0200
TZOFFSETTO:+0100
TZNAME:CET
DTSTART:20201025T010000
END:STANDARD
BEGIN:DAYLIGHT
TZOFFSETFROM:+0100
TZOFFSETTO:+0200
TZNAME:CEST
DTSTART:20210328T010000
END:DAYLIGHT
BEGIN:STANDARD
TZOFFSETFROM:+0200
TZOFFSETTO:+0100
TZNAME:CET
DTSTART:20211031T010000
END:STANDARD
BEGIN:DAYLIGHT
TZOFFSETFROM:+0100
TZOFFSETTO:+0200
TZNAME:CEST
DTSTART:20220327T010000
END:DAYLIGHT
BEGIN:STANDARD
TZOFFSETFROM:+0200
TZOFFSETTO:+0100
TZNAME:CET
DTSTART:20221030T010000
END:STANDARD
END:VTIMEZONE
BEGIN:VEVENT
DTSTART;TZID=America/New_York:20221216T083000
DTEND;TZID=America/New_York:20221216T130000
DTSTAMP:20260423T050453
CREATED:20221117T053336Z
LAST-MODIFIED:20221117T053555Z
UID:6813-1671179400-1671195600@freemumia.com
SUMMARY:Next Mumia Court Date
DESCRIPTION:Join us outside the courthouse from 8:30 AM until 1 PM on Friday\, October 26th\, 2022 for the next hearing in the current appeal of Mumia Abu-Jamal’s unjust 1982 conviction in the death of Daniel Faulkner. \nThe current case is based upon six boxes of evidence discovered by Philadelphia DA Larry Krasner in an office storeroom and released to the courts in December 2019 during an earlier appeal in Mumia’s case. The boxes were marked indicating they are part of an overall lot of 32 boxes. However\, the location of the other (presumed) twenty-six boxes of suppressed evidence in his case is still unknown. \nAt the prior court hearing in October\, the court announced its intention to dismiss the current appeal without examining the new evidence\, in particular regarding illegal racial bias in jury selection during Mumia’s original 1982 conviction (the law around this question is often referred to as the “Batson” ruling. \n Oct 26 court filing (PDF) \nFor more information about the court date\, see  [ https://mobilization4mumia.com/new-events ]  \n \nIf you wish to travel down (and back) to the courthouse from New York City with the Free Mumia Abu-Jamal Coalition NYC please contact us at our hotline [ 212.330.8029 ] to arrange this.  \nYou can also purchase a ticket online to travel with us at [  Get Bus Ticket ].
URL:https://freemumia.com/event/next-mumia-court-date-3/
LOCATION:Phildelphia Criminal Injustice Center\, 1301 Filbert Street\, Philadelphia\, PA\, 19107\, United States
ATTACH;FMTTYPE=image/jpeg:https://freemumia.com/wp-content/uploads/2022/11/2022_10_26_gabe_puppet_01.jpg
ORGANIZER;CN="Mobilization4Mumia":MAILTO:Mobilization4Mumia@gmail.com
END:VEVENT
BEGIN:VEVENT
DTSTART;TZID=America/New_York:20221216T053000
DTEND;TZID=America/New_York:20221216T160000
DTSTAMP:20260423T050453
CREATED:20221117T102837Z
LAST-MODIFIED:20221117T102837Z
UID:6823-1671168600-1671206400@freemumia.com
SUMMARY:Get on the bus to Philadelphia
DESCRIPTION:This year is the 40th anniversary of Mumia’s unjust conviction\, a clear frame-up by a corrupt police occupation. We are in court with a new legal appeal based on recently discovered and suppressed evidence in his case. We are continuing the 40-year struggle to win his freedom. This is a struggle that overturned his death sentence\, won his release from solitary confinement\, gained him hepatitis C treatment\, heart\, and eye surgery\, and more recently restored treatment of his severe skin condition. Now we need to continue this struggle to overturn his wrongful conviction and incarceration!! \nWe will be gathering on the corner of 17th Street and Union Square East (Park Avenue South) in Manhattan starting at 5:30 AM on Friday\, December 16\, 2022\, planning to depart at about 6 AM to travel to and from a major rally in Philadelphia for Mumia Abu-Jamal!! \nDue to the ongoing public health crisis\, we ask that everyone plan to get a COVID test 2 to 5 days before the trip\, in solidarity with each other\, and plan to remain masked while in the vehicles. We ask for a $30 donation to cover the costs of arranging the event transportation.  If you are able to donate more than this to cover all or part of a scholarship for another rider\, this will also be greatly appreciated. \nScholarships will be available for anyone who needs help affording the trip. No one who wants to go to this rally to support Mumia Abu-Jamal should hesitate to participate because of finances. We have many supporters who are always glad to help finance these scholarships. \nYou can contact us to arrange to travel with us from NYC to Philadelphia and back by:\n         HOTLINE:      212-330-8029\n         EMAIL:           bus@freemumia.com \nYou can also purchase a ticket online to travel with us at [  Get Bus Ticket ].
URL:https://freemumia.com/event/get-on-the-bus-to-philadelphia-2/
LOCATION:Union Square (northeast end)\, 40 Union Square East East\, New York\, NY\, 10003\, United States
ATTACH;FMTTYPE=image/jpeg:https://freemumia.com/wp-content/uploads/2022/04/2022_freedom_riders_01.jpeg
ORGANIZER;CN="Free Mumia Abu-Jamal Coalition NYC":MAILTO:info@freemumia.com
END:VEVENT
BEGIN:VEVENT
DTSTART;TZID=America/New_York:20221026T083000
DTEND;TZID=America/New_York:20221026T130000
DTSTAMP:20260423T050453
CREATED:20221003T225904Z
LAST-MODIFIED:20221018T224020Z
UID:6711-1666773000-1666789200@freemumia.com
SUMMARY:Next Mumia Court Date
DESCRIPTION:IMPORTANT UPDATE:  \nON FRIDAY OCTOBER 14\, THE HEARING IN MUMIA’S CASE WAS POSTPONED ONE WEEK FROM OCTOBER 19 TO OCTOBER 26 \n \nJoin us outside the courthouse from 9 AM until 1 PM on Wednesday\, October 26th\, 2022 for the next hearing in the current appeal of Mumia Abu-Jamal’s unjust 1982 conviction in the death of Daniel Faulkner. \nThe current case is based upon six boxes of evidence discovered by Philadelphia DA Larry Krasner in an office storeroom and released to the courts in December 2019 during an earlier appeal in Mumia’s case. The boxes were marked indicating they are part of an overall lot of 32 boxes. However\, the location of the other (presumed) twenty-six boxes of suppressed evidence in his case is still unknown. \nFor more information about the court date\, see  [ https://mobilization4mumia.com/new-events ]  \nIf you wish to travel down (and back) to the courthouse from New York City with the Free Mumia Abu-Jamal Coalition NYC please contact us at our hotline [ 212.330.8029 ] to arrange this.  You can also purchase a ticket online to travel with us at [  Get Bus Ticket ]. \nThere will also be a bus sponsored by POP (People’s Organization for Progress) leaving from Newark that morning: \n \nWednesday\, October 26\, 2022Boarding at 5:30 AMDeparts 6 AMNewark City Hall920 Broad StreetNewark\, NJ 07102 \nA $25 donation is requested to make a reservation. If facing financial difficulties\, please let us know. Wear a mask\, temperature will be taken when boarding\, reservation is required and will be made on a first-come first-served basis.   Call 973-801-0001 with questions or to make a reservation.
URL:https://freemumia.com/event/next-mumia-court-date-2/
LOCATION:Phildelphia Criminal Injustice Center\, 1301 Filbert Street\, Philadelphia\, PA\, 19107\, United States
ATTACH;FMTTYPE=image/jpeg:https://freemumia.com/wp-content/uploads/2022/10/2022_10_26_updated_flyer-scaled.jpg
ORGANIZER;CN="Mobilization4Mumia":MAILTO:Mobilization4Mumia@gmail.com
END:VEVENT
BEGIN:VEVENT
DTSTART;TZID=America/New_York:20221026T053000
DTEND;TZID=America/New_York:20221026T160000
DTSTAMP:20260423T050453
CREATED:20221005T175005Z
LAST-MODIFIED:20221018T223213Z
UID:6738-1666762200-1666800000@freemumia.com
SUMMARY:Get on the bus to Philadelphia
DESCRIPTION:IMPORTANT UPDATE:  \nON FRIDAY OCTOBER 14\, THE HEARING IN MUMIA’S CASE WAS POSTPONED ONE WEEK FROM OCTOBER 19 TO OCTOBER 26 \nThis year is the 40th anniversary of Mumia’s unjust conviction\, a clear frame-up by a corrupt police occupation. We are in court with a new legal appeal based on recently discovered and suppressed evidence in his case. We are continuing the 40-year struggle to win his freedom. This is a struggle that overturned his death sentence\, won his release from solitary confinement\, gained him hepatitis C treatment\, heart\, and eye surgery\, and more recently restored treatment of his severe skin condition. Now we need to continue this struggle to overturn his wrongful conviction and incarceration!! \nWe will be gathering on the corner of 17th Street and Union Square East (Park Avenue South) in Manhattan starting at 5:30 AM on Wednesday\, Octbober 26\, 2022\, planning to depart at about 6 AM to travel to and from a major rally in Philadelphia for Mumia Abu-Jamal!! \nDue to the ongoing public health crisis\, we ask that everyone plan to get a COVID test 2 to 5 days before the trip\, in solidarity with each other\, and plan to remain masked while in the vehicles. We ask for a $30 donation to cover the costs of arranging the event transportation.  If you are able to donate more than this to cover all or part of a scholarship for another rider\, this will also be greatly appreciated. \nScholarships will be available for anyone who needs help affording the trip. No one who wants to go to this rally to support Mumia Abu-Jamal should hesitate to participate because of finances. We have many supporters who are always glad to help finance these scholarships. \nYou can contact us to arrange to travel with us from NYC to Philadelphia and back by:\n         HOTLINE:      212-330-8029\n         EMAIL:           bus@freemumia.com \nYou can also purchase a ticket online to travel with us at [  Get Bus Ticket ]. \nThere will also be a bus sponsored by POP (People’s Organization for Progress) leaving from Newark that morning: \n \nWednesday\, October 26\, 2022Boarding at 5:30 AMDeparts 6 AMNewark City Hall920 Broad StreetNewark\, NJ 07102 \nA $25 donation is requested to make a reservation. If facing financial difficulties\, please let us know. Wear a mask\, temperature will be taken when boarding\, reservation is required and will be made on a first-come first-served basis.   Call 973-801-0001 with questions or to make a reservation.
URL:https://freemumia.com/event/get-on-the-bus-to-philadelphia/
LOCATION:Union Square (northeast end)\, 40 Union Square East East\, New York\, NY\, 10003\, United States
ATTACH;FMTTYPE=image/jpeg:https://freemumia.com/wp-content/uploads/2022/04/2022_freedom_riders_01.jpeg
ORGANIZER;CN="Free Mumia Abu-Jamal Coalition NYC":MAILTO:info@freemumia.com
END:VEVENT
BEGIN:VEVENT
DTSTART;TZID=America/New_York:20220703T093000
DTEND;TZID=America/New_York:20220703T200000
DTSTAMP:20260423T050453
CREATED:20220421T174427Z
LAST-MODIFIED:20220615T005806Z
UID:6670-1656840600-1656878400@freemumia.com
SUMMARY:Transportation to/from Philadelphia Mumia Rally
DESCRIPTION:July 3rd is the 40th anniversary of Mumia’s unjust conviction\, a clear frame-up by a corrupt police occupation. We are in court with a new legal appeal based on recently discovered and suppressed evidence in his case. We are continuing the 40-year struggle to win his freedom. This is a struggle that overturned his death sentence\, won his release from solitary confinement\, gained him hepatitis C treatment\, heart\, and eye surgery\, and more recently restored treatment of his severe skin condition. Now we need to continue this struggle to overturn his wrongful conviction and incarceration!! \nWe will be gathering on the corner of 17th Street and Union Square East (Park Avenue South) in Manhattan starting at 9:30 AM on Sunday\, July 3\, 2022\, planning to depart at about 10 AM to travel to and from a major rally in Philadelphia for Mumia Abu-Jamal!! \nAt the current time\, due to the ongoing public health crisis\, we plan to only fill every other seat on the vehicles (buses and vans) going down that day. We also ask that everyone plan to get a COVID test 2 to 5 days before the trip\, in solidarity with each other\, and plan to remain masked while in the vehicles. We are therefore asking for a $50 donation to cover the costs of arranging the event transportation. If the public health situation changes by early July\, and we are able to safely fill the vehicles to a larger degree\, we will be offering partial refunds of this amount proportional to the increased attendance\, or you can choose to donate this difference to our struggle. \nScholarships will be available for anyone who needs help affording the trip. No one who wants to go to this rally to support Mumia Abu-Jamal should hesitate to participate because of finances. We have many supporters who are always glad to help finance these scholarships. \nYou can contact us to arrange to travel with us from NYC to Philadelphia and back by:\n         HOTLINE:      212-330-8029\n         EMAIL:           bus@freemumia.com
URL:https://freemumia.com/event/transportation-to-from-philadelphia-mumia-rally/
LOCATION:Union Square (northeast end)\, 40 Union Square East East\, New York\, NY\, 10003\, United States
ATTACH;FMTTYPE=image/jpeg:https://freemumia.com/wp-content/uploads/2022/04/2022_freedom_riders_01.jpeg
ORGANIZER;CN="Free Mumia Abu-Jamal Coalition NYC":MAILTO:info@freemumia.com
END:VEVENT
BEGIN:VEVENT
DTSTART;TZID=America/New_York:20220629T090000
DTEND;TZID=America/New_York:20220629T130000
DTSTAMP:20260423T050453
CREATED:20220421T181722Z
LAST-MODIFIED:20220421T220940Z
UID:6676-1656493200-1656507600@freemumia.com
SUMMARY:Next Mumia Court Date
DESCRIPTION:Join us outside the courthouse from 9 AM until 1 PM on Wednesday\, June 29th\, 2022 for the next hearing in the current appeal of Mumia Abu-Jamal’s unjust 1982 conviction in the death of Daniel Faulkner.  \nThe current case is based upon six boxes of evidence discovered by Philadelphia DA Larry Krasner in an office storeroom and released to the courts in December 2019 during an earlier appeal in Mumia’s case. The boxes were marked indicating they are part of an overall lot of 32 boxes. However\, the location of the other (presumed) twenty-six boxes of suppressed evidence in his case is still unknown. \nIf you wish to travel down (and back) to the courthouse from New York City with the Free Mumia Abu-Jamal Coalition NYC please contact us at our hotline (212.330.8029) to arrange this.
URL:https://freemumia.com/event/next-mumia-court-date/
LOCATION:Phildelphia Criminal Injustice Center\, 1301 Filbert Street\, Philadelphia\, PA\, 19107\, United States
ATTACH;FMTTYPE=image/jpeg:https://freemumia.com/wp-content/uploads/2022/04/2022_03_02_tubman.jpeg
ORGANIZER;CN="Free Mumia Abu-Jamal Coalition NYC":MAILTO:info@freemumia.com
END:VEVENT
BEGIN:VEVENT
DTSTART;TZID=America/New_York:20220424T110000
DTEND;TZID=America/New_York:20220424T160000
DTSTAMP:20260423T050453
CREATED:20220421T001901Z
LAST-MODIFIED:20220421T231559Z
UID:6661-1650798000-1650816000@freemumia.com
SUMMARY:The Fierce Urgency of Now - Mumia's 68th Birthday
DESCRIPTION:Celebrate Mumia Abu-Jamal‘s 68th birthday after 40 years of unjust incarceration. We will speak truth to power as Mumia always does\, connecting all issues from climate to militarism. \nWe will also feature the work Japanese anti-nuke-power artists. \nSpecial brunch/drink menu. Cash only.
URL:https://freemumia.com/event/the-fierce-urgency-of-now/
LOCATION:5C Cafe and Cultrual Center\, 68 Avenue C\, New York\, NY\, 10009\, United States
ATTACH;FMTTYPE=image/jpeg:https://freemumia.com/wp-content/uploads/2022/04/2022_04_24_flyer_01.jpg
END:VEVENT
BEGIN:VEVENT
DTSTART;TZID=America/New_York:20211211T130000
DTEND;TZID=America/New_York:20211211T160000
DTSTAMP:20260423T050453
CREATED:20211203T000907Z
LAST-MODIFIED:20211204T000102Z
UID:6624-1639227600-1639238400@freemumia.com
SUMMARY:DEC 11: March for Mumia in Philadelphia
DESCRIPTION:December 9th marks 40 years of Mumia Abu-Jamal’s incarceration. The struggle to liberate Mumia from his wrongful conviction enters a new period as we confront the police and judicial misconduct at the heart of his frame-up with new evidence hidden by successive corrupt Philadelphia District Attorneys and released into evidence in December 2019. \nJoin us on Saturday\, December 11th for a march in the street of Philadelphia.  Starting and meeting up at 1 PM at the Octavius V. Catto Memorial at City Hall we will march around central Philadelphia to keep the struggle for Mumia’s freedom alive and present in the minds of all Philadelphians.
URL:https://freemumia.com/event/dec-11-march-for-mumia-in-philadelphia/
LOCATION:Philadelphia City Hall\, 1400 John F Kennedy Blvd\, Philadelphia\, PA\, 19107\, United States
ORGANIZER;CN="Mobilization4Mumia":MAILTO:Mobilization4Mumia@gmail.com
END:VEVENT
BEGIN:VEVENT
DTSTART;TZID=America/New_York:20211211T090000
DTEND;TZID=America/New_York:20211211T100000
DTSTAMP:20260423T050453
CREATED:20211203T002802Z
LAST-MODIFIED:20211203T004347Z
UID:6626-1639213200-1639216800@freemumia.com
SUMMARY:DEC 11:  Transportation NYC to/from Philadelphia march
DESCRIPTION:Transportation (roundtrip) from NYC to Philadelphia Mumia march\n–  9 AM – early pickup – Riverside Church – Claremont Ave. and 120th Street\n– 10 AM – main pickup  – NE corner Union Square – 17th Street and Union Square East (Park Avenue South)\n– Asking for $50 donation – scholarships available\n– COVID vaccination and masks are required\n– Call Mumia hotline 212.330.8029 to arrange a reservation
URL:https://freemumia.com/event/dec-11-transportation-nyc-to-from-philadelphia-march/
LOCATION:Union Square (northeast end)\, 40 Union Square East East\, New York\, NY\, 10003\, United States
ORGANIZER;CN="Free Mumia Abu-Jamal Coalition NYC":MAILTO:info@freemumia.com
END:VEVENT
BEGIN:VEVENT
DTSTART;TZID=America/New_York:20210703T140000
DTEND;TZID=America/New_York:20210703T180000
DTSTAMP:20260423T050453
CREATED:20210629T064151Z
LAST-MODIFIED:20210703T180004Z
UID:6601-1625320800-1625335200@freemumia.com
SUMMARY:March & Rally for Mumia--Honor Consuewella Africa!
DESCRIPTION:Live Stream: Watch at 2:10pm
URL:https://freemumia.com/event/march-rally-for-mumia-honor-consuewella-africa/
LOCATION:Philadelphia Municipal Services\, 1401 JFK Blvd.\, Philadelphia\, 19102
ATTACH;FMTTYPE=image/jpeg:https://freemumia.com/wp-content/uploads/2021/06/2021-07-03-mumia-consuewella-1200x300px-1.jpg
ORGANIZER;CN="International Concerned Family and Friends of Mumia Abu-Jamal (ICFFMAJ)":MAILTO:suzannewrosss@aol.com
END:VEVENT
BEGIN:VEVENT
DTSTART;TZID=America/New_York:20210424T140000
DTEND;TZID=America/New_York:20210424T180000
DTSTAMP:20260423T050453
CREATED:20210408T024618Z
LAST-MODIFIED:20210408T043655Z
UID:6490-1619272800-1619287200@freemumia.com
SUMMARY:Philadelphia: ALL OUT FOR MUMIA
DESCRIPTION:Gather at 2 PM on April 24th at Philadelphia’s City Hall for a rally and march.
URL:https://freemumia.com/event/philadelphia-all-out-for-mumia/
LOCATION:Philadelphia City Hall\, 1400 John F Kennedy Blvd\, Philadelphia\, PA\, 19107\, United States
ORGANIZER;CN="Mobilization4Mumia":MAILTO:Mobilization4Mumia@gmail.com
END:VEVENT
BEGIN:VEVENT
DTSTART;TZID=Europe/London:20210424T133000
DTEND;TZID=Europe/London:20210424T163000
DTSTAMP:20260423T050453
CREATED:20210416T031847Z
LAST-MODIFIED:20210416T031847Z
UID:6554-1619271000-1619281800@freemumia.com
SUMMARY:London\, UK: Dalston Kingsland Overground
DESCRIPTION:Free Mumia Abu-Jamal and all political prisoners!!!
URL:https://freemumia.com/event/london-uk-dalston-kingsland-overground/
LOCATION:Dalston Kingsland Overground\, Dalston\, London E8 2FA\, United Kingdom
ATTACH;FMTTYPE=image/jpeg:https://freemumia.com/wp-content/uploads/2021/04/2021_04_24_london_flyer.jpg
END:VEVENT
BEGIN:VEVENT
DTSTART;TZID=America/New_York:20210424T100000
DTEND;TZID=America/New_York:20210424T210000
DTSTAMP:20260423T050453
CREATED:20210408T010937Z
LAST-MODIFIED:20210418T215118Z
UID:6482-1619258400-1619298000@freemumia.com
SUMMARY:NYC: Get on the Bus
DESCRIPTION:Buses\, vans\, and other transportation are available from New York City to Philadelphia on April 24th meeting at 10 AM at the northeast corner of Union Square (17th Street and Park Avenue) and departing shortly thereafter. \nDue to COVID restrictions\, seating will be less than half normal capacity and therefore advanced reservations are required. Please call the Free Mumia hotline at 212.330.8029 or email bus@freemumia.com to arrange a reservation. \nSince this will be more expensive than usual\, we are asking people who can afford it to pay $50 for the roundtrip. However\, anyone who wants to go with us will be able to\, so we are also asking for donations at:\nhttp://www.freemumia.com/donate/\nso we can provide scholarship rides for everyone who needs one in order to participate. Any donation will help!! \nALL HANDS ON DECK!!!!
URL:https://freemumia.com/event/nyc-get-on-the-bus/
LOCATION:Union Square (northeast end)\, 40 Union Square East East\, New York\, NY\, 10003\, United States
ATTACH;FMTTYPE=image/png:https://freemumia.com/wp-content/uploads/2021/04/kamau_car_01.png
ORGANIZER;CN="Free Mumia Abu-Jamal Coalition NYC":MAILTO:info@freemumia.com
END:VEVENT
BEGIN:VEVENT
DTSTART;TZID=America/Los_Angeles:20210420T160000
DTEND;TZID=America/Los_Angeles:20210420T180000
DTSTAMP:20260423T050453
CREATED:20210416T034759Z
LAST-MODIFIED:20210416T034759Z
UID:6559-1618934400-1618941600@freemumia.com
SUMMARY:San Francisco\, CA: Mumia Press Conference and Rally
DESCRIPTION:Press conference and rally to protest Philadelphia DA Larry Krasner’s opposition to Mumia Abu-Jamal’s legal appeal.
URL:https://freemumia.com/event/san-francisco-ca-mumia-press-conference-and-rally/
LOCATION:KQED (PBS)\, 50 Beale Street\, San Francisco\, CA\, 94105\, United States
ATTACH;FMTTYPE=image/jpeg:https://freemumia.com/wp-content/uploads/2021/04/2021_04_20_bay_area_flyer_01.jpeg
END:VEVENT
BEGIN:VEVENT
DTSTART;TZID=Europe/Amsterdam:20210419T150000
DTEND;TZID=Europe/Amsterdam:20210419T170000
DTSTAMP:20260423T050453
CREATED:20210415T210949Z
LAST-MODIFIED:20210416T030421Z
UID:6538-1618844400-1618851600@freemumia.com
SUMMARY:Amsterdam\, Netherlands: Outside US Consulate
DESCRIPTION:Gather outside the US Consulate at 3 PM until 5 PM. The rally will feature live music and a variety of exciting community speakers.
URL:https://freemumia.com/event/amsterdam-netherlands/
LOCATION:US Consulate (Amsterdam)\, Museumplein 19\, 1071 DJ Amsterdam\, Netherlands
ATTACH;FMTTYPE=image/jpeg:https://freemumia.com/wp-content/uploads/2021/04/2021_04_19_amsterdam_poster.jpg
ORGANIZER;CN="Free Mumia Amsterdam":MAILTO:vriendenvanmumia@hotmail.nl
END:VEVENT
BEGIN:VEVENT
DTSTART;TZID=America/New_York:20210410T120000
DTEND;TZID=America/New_York:20210410T140000
DTSTAMP:20260423T050453
CREATED:20210408T031925Z
LAST-MODIFIED:20210408T043503Z
UID:6499-1618056000-1618063200@freemumia.com
SUMMARY:NYC: Organize for April 24th Mumia events
DESCRIPTION:We will be holding a street demonstration in NYC on April 10th from NOON to 2 PM to mobilize support for the All out for Mumia rally and march on April 24th in Philadelphia. \nWe will gather at the northeast corner of Union Square (17th Street and Park Avenue) at NOON. \nThe demonstration will include information about Mumia Abu-Jamal’s current legal appeal\, his current medical situation\, the current status of other political prisoners\, the global movement to free Mumia and all political prisoners\, and how you can take action to help. Tickets for the bus\, van\, and other modes of transportation to the events in Philadelphia on April 24th will also be available.
URL:https://freemumia.com/event/nyc-organize-for-april-24th-mumia-events/
LOCATION:Union Square (northeast end)\, 40 Union Square East East\, New York\, NY\, 10003\, United States
ORGANIZER;CN="International Concerned Family and Friends of Mumia Abu-Jamal (ICFFMAJ)":MAILTO:suzannewrosss@aol.com
END:VEVENT
END:VCALENDAR